



BEGIN:VCALENDAR
VERSION:2.0
PRODID:-//Laidlaw/College//NONSGML v1.0//EN
CALSCALE:GREGORIAN
BEGIN:VEVENT
DTSTART:20160915T004000Z
DTEND:20160915T013000Z
UID:event-5214
DTSTAMP:20180124T033540Z
URL;VALUE=URI:https%3A%2F%2Fwww.laidlaw.ac.nz%2Fevents%2Fchch-research-seminars-sept-15%2F
SUMMARY:Christchurch Campus Research Seminar
END:VEVENT
END:VCALENDAR

