



BEGIN:VCALENDAR
VERSION:2.0
PRODID:-//Laidlaw/College//NONSGML v1.0//EN
CALSCALE:GREGORIAN
BEGIN:VEVENT
DTSTART:20161012T234000Z
DTEND:20161013T003000Z
UID:event-5215
DTSTAMP:20180124T033543Z
URL;VALUE=URI:https%3A%2F%2Fwww.laidlaw.ac.nz%2Fevents%2Fchch-research-seminars-oct-13%2F
SUMMARY:Christchurch Campus Research Seminar
END:VEVENT
END:VCALENDAR

