



BEGIN:VCALENDAR
VERSION:2.0
PRODID:-//Laidlaw/College//NONSGML v1.0//EN
CALSCALE:GREGORIAN
BEGIN:VEVENT
DTSTART:20160809T073000Z
DTEND:20160809T090000Z
UID:event-5229
DTSTAMP:20180124T033531Z
URL;VALUE=URI:https%3A%2F%2Fwww.laidlaw.ac.nz%2Fevents%2Fpublic-lecture-with-darrell-bock-chc%2F
SUMMARY:Public Lecture with Darrell Bock
END:VEVENT
END:VCALENDAR

