



BEGIN:VCALENDAR
VERSION:2.0
PRODID:-//Laidlaw/College//NONSGML v1.0//EN
CALSCALE:GREGORIAN
BEGIN:VEVENT
DTSTART:20160831T070000Z
DTEND:20160831T083000Z
UID:event-5263
DTSTAMP:20180124T033526Z
URL;VALUE=URI:https%3A%2F%2Fwww.laidlaw.ac.nz%2Fevents%2Fbook-launch-living-in-the-family-of-jesus%2F
SUMMARY:Book Launch: Living in the Family of Jesus
END:VEVENT
END:VCALENDAR

