



BEGIN:VCALENDAR
VERSION:2.0
PRODID:-//Laidlaw/College//NONSGML v1.0//EN
CALSCALE:GREGORIAN
BEGIN:VEVENT
DTSTART:20161019T060000Z
DTEND:20161019T080000Z
UID:event-5275
DTSTAMP:20180124T033517Z
URL;VALUE=URI:https%3A%2F%2Fwww.laidlaw.ac.nz%2Fevents%2Fopen-night-oct-2016-mnk%2F
SUMMARY:Open Night - October 2016 (Manukau)
END:VEVENT
END:VCALENDAR

