



BEGIN:VCALENDAR
VERSION:2.0
PRODID:-//Laidlaw/College//NONSGML v1.0//EN
CALSCALE:GREGORIAN
BEGIN:VEVENT
DTSTART:20161018T060000Z
DTEND:20161018T080000Z
UID:event-5276
DTSTAMP:20180124T033510Z
URL;VALUE=URI:https%3A%2F%2Fwww.laidlaw.ac.nz%2Fevents%2Fopen-night-oct-2016-chch%2F
SUMMARY:Open Night - October 2016 (Christchurch)
END:VEVENT
END:VCALENDAR

