



BEGIN:VCALENDAR
VERSION:2.0
PRODID:-//Laidlaw/College//NONSGML v1.0//EN
CALSCALE:GREGORIAN
BEGIN:VEVENT
DTSTART:20160731T210000Z
DTEND:20160831T030000Z
UID:event-5295
DTSTAMP:20180124T033500Z
URL;VALUE=URI:https%3A%2F%2Fwww.laidlaw.ac.nz%2Fevents%2Fstudent-for-a-day-theol-aug2016%2F
SUMMARY:Student for a Day – Theology
END:VEVENT
END:VCALENDAR

