



BEGIN:VCALENDAR
VERSION:2.0
PRODID:-//Laidlaw/College//NONSGML v1.0//EN
CALSCALE:GREGORIAN
BEGIN:VEVENT
DTSTART:20160831T210000Z
DTEND:20160923T030000Z
UID:event-5298
DTSTAMP:20180124T033502Z
URL;VALUE=URI:https%3A%2F%2Fwww.laidlaw.ac.nz%2Fevents%2Fstudent-for-a-day-theol-sep2016%2F
SUMMARY:Student for a Day – Theology
END:VEVENT
END:VCALENDAR

