



BEGIN:VCALENDAR
VERSION:2.0
PRODID:-//Laidlaw/College//NONSGML v1.0//EN
CALSCALE:GREGORIAN
BEGIN:VEVENT
DTSTART:20160908T073000Z
DTEND:20160908T090000Z
UID:event-5367
DTSTAMP:20180124T033453Z
URL;VALUE=URI:https%3A%2F%2Fwww.laidlaw.ac.nz%2Fevents%2Fpublic-lecture-with-andrew-shepherd-chc%2F
SUMMARY:Public Lecture with Andrew Shepherd
END:VEVENT
END:VCALENDAR

