



BEGIN:VCALENDAR
VERSION:2.0
PRODID:-//Laidlaw/College//NONSGML v1.0//EN
CALSCALE:GREGORIAN
BEGIN:VEVENT
DTSTART:20180117T030000Z
DTEND:20180117T050000Z
UID:event-6288
DTSTAMP:20180124T033042Z
URL;VALUE=URI:https%3A%2F%2Fwww.laidlaw.ac.nz%2Fevents%2Fopen-day-mnk-jan2017%2F
SUMMARY:Open Day - Manukau
END:VEVENT
END:VCALENDAR

