



BEGIN:VCALENDAR
VERSION:2.0
PRODID:-//Laidlaw/College//NONSGML v1.0//EN
CALSCALE:GREGORIAN
BEGIN:VEVENT
DTSTART:20170223T060000Z
DTEND:20170223T080000Z
UID:event-6427
DTSTAMP:20180124T033448Z
URL;VALUE=URI:https%3A%2F%2Fwww.laidlaw.ac.nz%2Fevents%2Fcommissioning-of-new-national-principal%2F
SUMMARY:Commissioning of new National Principal
END:VEVENT
END:VCALENDAR

