



BEGIN:VCALENDAR
VERSION:2.0
PRODID:-//Laidlaw/College//NONSGML v1.0//EN
CALSCALE:GREGORIAN
BEGIN:VEVENT
DTSTART:20170829T070000Z
DTEND:20170926T080000Z
UID:event-6476
DTSTAMP:20180124T033442Z
URL;VALUE=URI:https%3A%2F%2Fwww.laidlaw.ac.nz%2Fevents%2Flecture-series-chch-2017%2F
SUMMARY:Laidlaw Lecture Series - Christchurch
END:VEVENT
END:VCALENDAR

