



BEGIN:VCALENDAR
VERSION:2.0
PRODID:-//Laidlaw/College//NONSGML v1.0//EN
CALSCALE:GREGORIAN
BEGIN:VEVENT
DTSTART:20170330T063000Z
DTEND:20170330T080000Z
UID:event-6525
DTSTAMP:20180124T033422Z
URL;VALUE=URI:https%3A%2F%2Fwww.laidlaw.ac.nz%2Fevents%2Fpublic-lecture-lynne-baab-chc%2F
SUMMARY:Public Lecture with Lynne Baab
END:VEVENT
END:VCALENDAR

