



BEGIN:VCALENDAR
VERSION:2.0
PRODID:-//Laidlaw/College//NONSGML v1.0//EN
CALSCALE:GREGORIAN
BEGIN:VEVENT
DTSTART:20170307T063000Z
DTEND:20170307T080000Z
UID:event-6531
DTSTAMP:20180124T033431Z
URL;VALUE=URI:https%3A%2F%2Fwww.laidlaw.ac.nz%2Fevents%2Fpublic-lecture-ian-paul%2F
SUMMARY:Public Lecture with Ian Paul
END:VEVENT
END:VCALENDAR

