



BEGIN:VCALENDAR
VERSION:2.0
PRODID:-//Laidlaw/College//NONSGML v1.0//EN
CALSCALE:GREGORIAN
BEGIN:VEVENT
DTSTART:20170817T070000Z
DTEND:20170817T090000Z
UID:event-6663
DTSTAMP:20180124T033413Z
URL;VALUE=URI:https%3A%2F%2Fwww.laidlaw.ac.nz%2Fevents%2Fopen-night-aug-2017%2F
SUMMARY:Open Night
END:VEVENT
END:VCALENDAR

