



BEGIN:VCALENDAR
VERSION:2.0
PRODID:-//Laidlaw/College//NONSGML v1.0//EN
CALSCALE:GREGORIAN
BEGIN:VEVENT
DTSTART:20171026T060000Z
DTEND:20171026T080000Z
UID:event-6664
DTSTAMP:20180124T033416Z
URL;VALUE=URI:https%3A%2F%2Fwww.laidlaw.ac.nz%2Fevents%2Fopen-night-oct-2017%2F
SUMMARY:Open Night
END:VEVENT
END:VCALENDAR

