



BEGIN:VCALENDAR
VERSION:2.0
PRODID:-//Laidlaw/College//NONSGML v1.0//EN
CALSCALE:GREGORIAN
BEGIN:VEVENT
DTSTART:20170523T030000Z
DTEND:20170523T043000Z
UID:event-6813
DTSTAMP:20180124T033351Z
URL;VALUE=URI:https%3A%2F%2Fwww.laidlaw.ac.nz%2Fevents%2Flecture-terry-casino%2F
SUMMARY:Diaspora Missiology: When the mission field comes to us
END:VEVENT
END:VCALENDAR

