



BEGIN:VCALENDAR
VERSION:2.0
PRODID:-//Laidlaw/College//NONSGML v1.0//EN
CALSCALE:GREGORIAN
BEGIN:VEVENT
DTSTART:20170614T070000Z
DTEND:20170614T083000Z
UID:event-6863
DTSTAMP:20180124T033341Z
URL;VALUE=URI:https%3A%2F%2Fwww.laidlaw.ac.nz%2Fevents%2Fbook-launch-counselling-jun2017%2F
SUMMARY:Book Launch - Stories of Therapy, Stories of Faith
END:VEVENT
END:VCALENDAR

