



BEGIN:VCALENDAR
VERSION:2.0
PRODID:-//Laidlaw/College//NONSGML v1.0//EN
CALSCALE:GREGORIAN
BEGIN:VEVENT
DTSTART:20170313T060000Z
DTEND:20170410T090000Z
UID:event-6940
DTSTAMP:20180124T033444Z
URL;VALUE=URI:https%3A%2F%2Fwww.laidlaw.ac.nz%2Fevents%2Flecture-series-chch-block1-2017%2F
SUMMARY:Laidlaw Lecture Series - Christchurch
END:VEVENT
END:VCALENDAR

