



BEGIN:VCALENDAR
VERSION:2.0
PRODID:-//Laidlaw/College//NONSGML v1.0//EN
CALSCALE:GREGORIAN
BEGIN:VEVENT
DTSTART:20170523T070000Z
DTEND:20170620T090000Z
UID:event-6953
DTSTAMP:20180124T033446Z
URL;VALUE=URI:https%3A%2F%2Fwww.laidlaw.ac.nz%2Fevents%2Flecture-series-chch-block2-2017%2F
SUMMARY:Laidlaw Lecture Series - Christchurch
END:VEVENT
END:VCALENDAR

