



BEGIN:VCALENDAR
VERSION:2.0
PRODID:-//Laidlaw/College//NONSGML v1.0//EN
CALSCALE:GREGORIAN
BEGIN:VEVENT
DTSTART:20170928T193000Z
DTEND:20170929T040000Z
UID:event-7043
DTSTAMP:20180124T033328Z
URL;VALUE=URI:https%3A%2F%2Fwww.laidlaw.ac.nz%2Fevents%2Fsturt-lectures%2F
SUMMARY:The Sturt Lectures
END:VEVENT
END:VCALENDAR

