



BEGIN:VCALENDAR
VERSION:2.0
PRODID:-//Laidlaw/College//NONSGML v1.0//EN
CALSCALE:GREGORIAN
BEGIN:VEVENT
DTSTART:20170804T213000Z
DTEND:20170805T030000Z
UID:event-7092
DTSTAMP:20180124T033316Z
URL;VALUE=URI:https%3A%2F%2Fwww.laidlaw.ac.nz%2Fevents%2Falumni-gathering-akl-2017%2F
SUMMARY:2017 National Alumni Gathering - Auckland
END:VEVENT
END:VCALENDAR

