



BEGIN:VCALENDAR
VERSION:2.0
PRODID:-//Laidlaw/College//NONSGML v1.0//EN
CALSCALE:GREGORIAN
BEGIN:VEVENT
DTSTART:20170811T213000Z
DTEND:20170812T030000Z
UID:event-7121
DTSTAMP:20180124T033324Z
URL;VALUE=URI:https%3A%2F%2Fwww.laidlaw.ac.nz%2Fevents%2Falumni-gathering-chc-2017%2F
SUMMARY:2017 National Alumni Gathering - Christchurch
END:VEVENT
END:VCALENDAR

