



BEGIN:VCALENDAR
VERSION:2.0
PRODID:-//Laidlaw/College//NONSGML v1.0//EN
CALSCALE:GREGORIAN
BEGIN:VEVENT
DTSTART:20170818T210000Z
DTEND:20170819T003000Z
UID:event-7310
DTSTAMP:20180124T033304Z
URL;VALUE=URI:https%3A%2F%2Fwww.laidlaw.ac.nz%2Fevents%2Fnourishing-mental-health-couns-workshop-chc%2F
SUMMARY:Nourishing Mental Health in the Christian Ministry Context
END:VEVENT
END:VCALENDAR

