



BEGIN:VCALENDAR
VERSION:2.0
PRODID:-//Laidlaw/College//NONSGML v1.0//EN
CALSCALE:GREGORIAN
BEGIN:VEVENT
DTSTART:20170823T073000Z
DTEND:20170823T090000Z
UID:event-7317
DTSTAMP:20180124T033248Z
URL;VALUE=URI:https%3A%2F%2Fwww.laidlaw.ac.nz%2Fevents%2Fpeter-riddell-lecture-aug2017%2F
SUMMARY:Issues in Christian-Muslim Relations: The questions Christians ask with Peter Riddell
END:VEVENT
END:VCALENDAR

