



BEGIN:VCALENDAR
VERSION:2.0
PRODID:-//Laidlaw/College//NONSGML v1.0//EN
CALSCALE:GREGORIAN
BEGIN:VEVENT
DTSTART:20170818T213000Z
DTEND:20170819T003000Z
UID:event-7362
DTSTAMP:20180124T033240Z
URL;VALUE=URI:https%3A%2F%2Fwww.laidlaw.ac.nz%2Fevents%2Felection-forum%2F
SUMMARY:Election Forum
END:VEVENT
END:VCALENDAR

