



BEGIN:VCALENDAR
VERSION:2.0
PRODID:-//Laidlaw/College//NONSGML v1.0//EN
CALSCALE:GREGORIAN
BEGIN:VEVENT
DTSTART:20171024T200000Z
DTEND:20171025T030000Z
UID:event-7467
DTSTAMP:20180124T033224Z
URL;VALUE=URI:https%3A%2F%2Fwww.laidlaw.ac.nz%2Fevents%2Fbuilding-the-church-pnth%2F
SUMMARY:Building the Church for Today and Tomorrow Conference (Palmerston North)
END:VEVENT
END:VCALENDAR

