



BEGIN:VCALENDAR
VERSION:2.0
PRODID:-//Laidlaw/College//NONSGML v1.0//EN
CALSCALE:GREGORIAN
BEGIN:VEVENT
DTSTART:20171101T200000Z
DTEND:20171102T030000Z
UID:event-7473
DTSTAMP:20180124T033232Z
URL;VALUE=URI:https%3A%2F%2Fwww.laidlaw.ac.nz%2Fevents%2Fbuilding-the-church-tauranga%2F
SUMMARY:Building the Church for Today and Tomorrow Conference (Tauranga)
END:VEVENT
END:VCALENDAR

