



BEGIN:VCALENDAR
VERSION:2.0
PRODID:-//Laidlaw/College//NONSGML v1.0//EN
CALSCALE:GREGORIAN
BEGIN:VEVENT
DTSTART:20171113T060000Z
DTEND:20171113T080000Z
UID:event-7699
DTSTAMP:20180124T033157Z
URL;VALUE=URI:https%3A%2F%2Fwww.laidlaw.ac.nz%2Fevents%2Fbook-launch-nov2017%2F
SUMMARY:Book Launch
END:VEVENT
END:VCALENDAR

