



BEGIN:VCALENDAR
VERSION:2.0
PRODID:-//Laidlaw/College//NONSGML v1.0//EN
CALSCALE:GREGORIAN
BEGIN:VEVENT
DTSTART:20180511T060000Z
DTEND:20180512T030000Z
UID:event-7755
DTSTAMP:20180124T033139Z
URL;VALUE=URI:https%3A%2F%2Fwww.laidlaw.ac.nz%2Fevents%2Fintercultural-church%2F
SUMMARY:Intercultural Church
END:VEVENT
END:VCALENDAR

