



BEGIN:VCALENDAR
VERSION:2.0
PRODID:-//Laidlaw/College//NONSGML v1.0//EN
CALSCALE:GREGORIAN
BEGIN:VEVENT
DTSTART:20180428T013000Z
DTEND:20180428T033000Z
UID:event-7928
DTSTAMP:20180124T033121Z
URL;VALUE=URI:https%3A%2F%2Fwww.laidlaw.ac.nz%2Fevents%2Fauckland-graduation-2018%2F
SUMMARY:Auckland Graduation 2018
END:VEVENT
END:VCALENDAR

