



BEGIN:VCALENDAR
VERSION:2.0
PRODID:-//Laidlaw/College//NONSGML v1.0//EN
CALSCALE:GREGORIAN
BEGIN:VEVENT
DTSTART:20180323T063000Z
DTEND:20180323T080000Z
UID:event-7930
DTSTAMP:20180124T033128Z
URL;VALUE=URI:https%3A%2F%2Fwww.laidlaw.ac.nz%2Fevents%2Fchch-graduation-2018%2F
SUMMARY:Christchurch Graduation 2018
END:VEVENT
END:VCALENDAR

