



BEGIN:VCALENDAR
VERSION:2.0
PRODID:-//Laidlaw/College//NONSGML v1.0//EN
CALSCALE:GREGORIAN
BEGIN:VEVENT
DTSTART:20180930T110000Z
DTEND:20181001T110000Z
UID:event-7945
DTSTAMP:20180124T033113Z
URL;VALUE=URI:https%3A%2F%2Fwww.laidlaw.ac.nz%2Fevents%2Fconversations-theology-social-vocation-symposium%2F
SUMMARY:Whakawhiti korero: Conversations between theology and social vocation
END:VEVENT
END:VCALENDAR

