



BEGIN:VCALENDAR
VERSION:2.0
PRODID:-//Laidlaw/College//NONSGML v1.0//EN
CALSCALE:GREGORIAN
BEGIN:VEVENT
DTSTART:20180227T060000Z
DTEND:20180327T080000Z
UID:event-7995
DTSTAMP:20180124T033058Z
URL;VALUE=URI:https%3A%2F%2Fwww.laidlaw.ac.nz%2Fevents%2Flecture-series-chc-2018%2F
SUMMARY:Laidlaw Lecture Series - Christchurch
END:VEVENT
END:VCALENDAR

