



BEGIN:VCALENDAR
VERSION:2.0
PRODID:-//Laidlaw/College//NONSGML v1.0//EN
CALSCALE:GREGORIAN
BEGIN:VEVENT
DTSTART:20180315T063000Z
DTEND:20180315T080000Z
UID:event-8066
DTSTAMP:20180124T033053Z
URL;VALUE=URI:https%3A%2F%2Fwww.laidlaw.ac.nz%2Fevents%2Fgraham-hill-lecture-mar2018-chc%2F
SUMMARY:Lessons from the global church: Renewing mission, community &amp; discipleship
END:VEVENT
END:VCALENDAR

