



BEGIN:VCALENDAR
VERSION:2.0
PRODID:-//Laidlaw/College//NONSGML v1.0//EN
CALSCALE:GREGORIAN
BEGIN:VEVENT
DTSTART:20180124T030000Z
DTEND:20180124T060000Z
UID:event-8158
DTSTAMP:20180124T032615Z
URL;VALUE=URI:https%3A%2F%2Fwww.laidlaw.ac.nz%2Fevents%2Fopen-day-chc-jan2017%2F
SUMMARY:Open Day - Christchurch
END:VEVENT
END:VCALENDAR

